BEGIN:VCALENDAR
VERSION:2.0
PRODID:-//ChamberMaster//Event Calendar 2.0//EN
METHOD:PUBLISH
X-PUBLISHED-TTL:P3D
REFRESH-INTERVAL:P3D
CALSCALE:GREGORIAN
BEGIN:VEVENT
DTSTART:20170602T011500Z
DTEND:20170602T031500Z
X-MICROSOFT-CDO-ALLDAYEVENT:FALSE
SUMMARY:Jack Kilby Square Band Shell Re-Dedication
DESCRIPTION:JACK KILBY SQUARE\n\nBAND SHELL RE-DEDICATION\n\n1927   2017\n\nJUNE 1 \, 2017   8:15\n\n     The original Clayton Lawyer Moses Band Shell was built during the summer of 1926. Two of his children\, Lillian Alice Moses and Earl Cecil Moses\, donated $10\,898.00 to have a Hutchinson architect design the structure in agreement with the city of Great Bend. The memorial band shell was to be built in the same style as the courthouse and of the same white stone exterior. Also included in the agreement was a green tile roof\, capacity for fifty band members\, two kalamine bronze doors for the storage rooms\, a curved interior rear wall\, steps to the stage area\, and a concrete floor trimmed with tile.\n\n \n\n     "Clayte"\, as he was known around town\, was a citizen that had much to do with public affairs of the town and county in the 1880's. He and his brothers continued the family milling business of early Great Bend\, he was a mayor of the city\, held many county governmental positions\, and\, played cornet in the early "Silver Cornet Bands" of Great Bend.\n\n \n\n     The dedication ceremony was held on Friday\, May 20\, 1927 and chaired by C.R. Aldrich\, a relative of the Moses family. The band played "A Night in June"\, an invocation was given by Presbyterian minister\, W.J. Willis\, "Auld Lang Syne" was played by the band\, a presentation address by Judge Elrick C. Cole\, an address of acceptance by mayor\, Leonard L. Gunn\, and a band concert led by the new city band director\, Domingo Scotti.\n\nMarch - "Great Bend"...................................Scotti\n\nOverture - "Stradella"...................................Flotow\n\nFox-Trot - "Hello\, Aloha\, How Are You?"....Boer\n\nRomance - "Lover's  Lane"........................... Hayes\n\n"Dance of the Hours" from 'La Gioconda'....Ponchielli\n\nIntermezzo - "In a Moonlit Garden"..............King\n\nSelection - "Lucia d' Lammamoor"...............Donizetti\n\nFox-Trot - "That's Why I Love You"..............Donaldson\n\nMedley - "American Favorites".....................Scotti\n\n \n\n     The march "Great Bend" (played at the 1927 dedication ceremony) was especially written for the occasion by Professor Scotti\, also a medley of patriotic songs\, "American Favorites" was arranged by Scotti. During his tenure as city band director he would play several of his orginal pieces. Scotti directed the band until 1935. The march\, "Pride of Great Bend" by Scotti will be featured at the evening re-dedication concert June 1\, 8:.15.\n\n \n\n     The first renovation of the band shell was 2000-2001 backed by funds from the Downtown Development organization in conjunction with the street scape committee and others. Deteriorating wooden benches were replaced\, the landscape improved\, front of the stage capped\, new steps\, all repainted\, new re-enforced stage floor and restrooms.
X-ALT-DESC;FMTTYPE=text/html:<span style="font-size:10.5pt\;">JACK KILBY SQUARE</span><br />\n<span style="font-size:10.5pt\;">BAND SHELL RE-DEDICATION</span><br />\n<span style="font-size:10.5pt\;">1927 &ndash\; 2017</span><br />\n<strong><span style="font-size:10.5pt\;">JUNE 1 \, 2017 &ndash\; 8:15</span></strong><br />\n<span style="font-size:10.5pt\;">&nbsp\;&nbsp\;&nbsp\;&nbsp\; The original Clayton Lawyer Moses Band Shell was built during the summer of 1926. Two of his children\, Lillian Alice Moses and Earl Cecil Moses\, donated $10\,898.00 to have a Hutchinson architect design the structure in agreement with the city of Great Bend. The memorial band shell was to be built in the same style as the courthouse and of the same white stone exterior. Also included in the agreement was a green tile roof\, capacity for fifty band members\, two kalamine bronze doors for the storage rooms\, a curved interior rear wall\, steps to the stage area\, and a concrete floor trimmed with tile.</span><br />\n&nbsp\;<br />\n<span style="font-size:10.5pt\;">&nbsp\;&nbsp\;&nbsp\;&nbsp\; &ldquo\;Clayte&rdquo\;\, as he was known around town\, was a citizen that had much to do with public affairs of the town and county in the 1880&#39\;s. He and his brothers continued the family milling business of early Great Bend\, he was a mayor of the city\, held many county governmental positions\, and\, played cornet in the early &ldquo\;Silver Cornet Bands&rdquo\; of Great Bend.</span><br />\n&nbsp\;<br />\n<span style="font-size:10.5pt\;">&nbsp\;&nbsp\;&nbsp\;&nbsp\; The dedication ceremony was held on Friday\, May 20\, 1927 and chaired by C.R. Aldrich\, a relative of the Moses family. The band played &ldquo\;A Night in June&rdquo\;\, an invocation was given by Presbyterian minister\, W.J. Willis\, &ldquo\;Auld Lang Syne&rdquo\; was played by the band\, a presentation address by Judge Elrick C. Cole\, an address of acceptance by mayor\, Leonard L. Gunn\, and a band concert led by the new city band director\, Domingo Scotti.</span><br />\n<em><span style="font-size:10.5pt\;">March - &ldquo\;Great Bend&rdquo\;...................................Scotti</span></em><br />\n<em><span style="font-size:10.5pt\;">Overture - &ldquo\;Stradella&rdquo\;...................................Flotow</span></em><br />\n<em><span style="font-size:10.5pt\;">Fox-Trot - &ldquo\;Hello\, Aloha\, How Are You?&rdquo\;....Boer</span></em><br />\n<em><span style="font-size:10.5pt\;">Romance - &ldquo\;Lover&#39\;s&nbsp\; Lane&rdquo\;........................... Hayes</span></em><br />\n<em><span style="font-size:10.5pt\;">&ldquo\;Dance of the Hours&rdquo\; from &#39\;La Gioconda&#39\;....Ponchielli</span></em><br />\n<em><span style="font-size:10.5pt\;">Intermezzo - &ldquo\;In a Moonlit Garden&rdquo\;..............King</span></em><br />\n<em><span style="font-size:10.5pt\;">Selection - &ldquo\;Lucia d&#39\; Lammamoor&rdquo\;...............Donizetti</span></em><br />\n<em><span style="font-size:10.5pt\;">Fox-Trot - &ldquo\;That&#39\;s Why I Love You&rdquo\;..............Donaldson</span></em><br />\n<em><span style="font-size:10.5pt\;">Medley - &ldquo\;American Favorites&rdquo\;.....................Scotti</span></em><br />\n&nbsp\;<br />\n<span style="font-size:10.5pt\;">&nbsp\;&nbsp\;&nbsp\;&nbsp\; The march &ldquo\;Great Bend&rdquo\; <em>(played at the 1927 dedication ceremony)</em> was especially written for the occasion by Professor Scotti\, also a medley of patriotic songs\, &ldquo\;American Favorites&rdquo\; was arranged by Scotti. During his tenure as city band director he would play several of his orginal pieces. Scotti directed the band until 1935. </span>The march\, &ldquo\;Pride of Great Bend&rdquo\; by Scotti will be featured at the evening re-dedication <span style="font-size:10.5pt\;">concert<strong> June 1\, 8:.15.</strong></span><br />\n&nbsp\;<br />\n&nbsp\;&nbsp\;&nbsp\;&nbsp\; <span style="font-size:10.5pt\;">The first renovation of the band shell was 2000-2001 backed by funds from the Downtown Development organization in conjunction with the street scape committee and others. Deteriorating wooden benches were replaced\, the landscape improved\, front of the stage capped\, new steps\, all repainted\, new re-enforced stage floor and restrooms.</span>
LOCATION:Jack Kilby Square Great Bend\, KS
UID:e.2303.1706
SEQUENCE:3
DTSTAMP:20260422T184455Z
URL:https://members.greatbend.org/events/details/jack-kilby-square-band-shell-re-dedication-1706
END:VEVENT

END:VCALENDAR
