BEGIN:VCALENDAR
VERSION:2.0
PRODID:-//ChamberMaster//Event Calendar 2.0//EN
METHOD:PUBLISH
X-PUBLISHED-TTL:P3D
REFRESH-INTERVAL:P3D
CALSCALE:GREGORIAN
BEGIN:VEVENT
DTSTART:20171115T140000Z
DTEND:20171116T040000Z
X-MICROSOFT-CDO-ALLDAYEVENT:FALSE
SUMMARY:Jeans Day for United Way
DESCRIPTION:Wear jeans with a $1 donation to UWCK!
X-ALT-DESC;FMTTYPE=text/html:<span style="color: rgb(13\, 6\, 0)\; font-family: Georgia\; font-size: 13.3333px\;">Wear jeans with a $1 donation to UWCK!</span>
LOCATION:Barton & Pawnee Counties
UID:e.2303.1702
SEQUENCE:3
DTSTAMP:20260422T104231Z
URL:https://members.greatbend.org/events/details/jeans-day-for-united-way-1702
END:VEVENT

END:VCALENDAR
