BEGIN:VCALENDAR
VERSION:2.0
PRODID:-//ChamberMaster//Event Calendar 2.0//EN
METHOD:PUBLISH
X-PUBLISHED-TTL:P3D
REFRESH-INTERVAL:P3D
CALSCALE:GREGORIAN
BEGIN:VEVENT
DTSTART:20220728T200000Z
DTEND:20220728T223000Z
X-MICROSOFT-CDO-ALLDAYEVENT:FALSE
SUMMARY:Job Fair - USD 428 Food Service
DESCRIPTION:Have you considered a career supporting education through nourishing young learners? USD 428 has a variety of openings in the Nutrition & Food Service Department. Interested applicants are invited to stop by the Central Kitchen on Broadway across from the Great Bend Public Library\, on Thursday\, July 28 from 3 - 5:30 pm. Job seekers can learn more about open positions\, pay\, and benefits\, as well as enjoy refreshments and door prizes.
X-ALT-DESC;FMTTYPE=text/html:Have you considered a career supporting education through nourishing young learners? USD 428 has a variety of openings in the Nutrition &amp\; Food Service Department. Interested applicants are invited to stop by the Central Kitchen on Broadway across from the Great Bend Public Library\, on Thursday\, July 28 from 3 - 5:30 pm. Job seekers can learn more about open positions\, pay\, and benefits\, as well as enjoy refreshments and door prizes.
LOCATION:USD 428 Central Kitchen 2201 Broadway Ave\, GBKS Across from the Great Bend Public Library
UID:e.2303.10854
SEQUENCE:3
DTSTAMP:20260423T032752Z
URL:https://members.greatbend.org/events/details/job-fair-usd-428-food-service-10854
END:VEVENT

END:VCALENDAR
