BEGIN:VCALENDAR
VERSION:2.0
PRODID:-//ChamberMaster//Event Calendar 2.0//EN
METHOD:PUBLISH
X-PUBLISHED-TTL:P3D
REFRESH-INTERVAL:P3D
CALSCALE:GREGORIAN
BEGIN:VEVENT
DTSTART:20171028T230000Z
DTEND:20171029T030000Z
X-MICROSOFT-CDO-ALLDAYEVENT:FALSE
SUMMARY:John Wayne Murder Mystery Party
DESCRIPTION:A western murder mystery dinner! Mystery will include local residents and feature John Wayne Impersonator\, Dr. Benes\, as Rooster Cogburn. $35.00 per person includes dinner and performance. Cash bar available. Tickets are limited for this unique event. The event is sponsored by The Santa Fe Trail Association to benefit The Santa Fe Trail Center.
X-ALT-DESC;FMTTYPE=text/html:A western murder mystery dinner! Mystery will include local residents and feature John Wayne Impersonator\, Dr. Benes\, as Rooster Cogburn. $35.00 per person includes dinner and performance. Cash bar available. Tickets are limited for this unique event. The event is sponsored by The Santa Fe Trail Association to benefit The Santa Fe Trail Center.
LOCATION:Best Western Courtyard 2920 10th St. Great Bend\, KS
UID:e.2303.3351
SEQUENCE:3
DTSTAMP:20260422T132748Z
URL:https://members.greatbend.org/events/details/john-wayne-murder-mystery-party-3351
END:VEVENT

END:VCALENDAR
