BEGIN:VCALENDAR
VERSION:2.0
PRODID:-//ChamberMaster//Event Calendar 2.0//EN
METHOD:PUBLISH
X-PUBLISHED-TTL:P3D
REFRESH-INTERVAL:P3D
CALSCALE:GREGORIAN
BEGIN:VEVENT
DTSTART:20170803T203000Z
DTEND:20170803T213000Z
X-MICROSOFT-CDO-ALLDAYEVENT:FALSE
SUMMARY:Kansas Association of School Boards presentation
DESCRIPTION:Representatives from the Kansas Association of School Boards will be in Great Bend at 3:30 p.m. Thursday\, August 3rd at the District Education Center\, 201 S. Patton Road. \n\n\n\nThe meetings held by KASB are being referred to as a "New Day in Kansas Education" and will feature a look at new vision\, finance formula\, funding\, accountability and school redesign. Topics for discussion will be the challenges of preparing more students for success after high school graduation\, jobs skills and postsecondary education.\n\n\n\nThe public is invited to attend and no sign up is necessary.
X-ALT-DESC;FMTTYPE=text/html:<span style="color: rgb(13\, 6\, 0)\; font-family: Georgia\; font-size: 13.3333px\;">Representatives from the Kansas Association of School Boards will be in Great Bend at 3:30 p.m. Thursday\, August 3rd at the District Education Center\, 201 S. Patton Road.&nbsp\;</span><br style="color: rgb(13\, 6\, 0)\; font-family: Georgia\; font-size: 13.3333px\;" />\n<br style="color: rgb(13\, 6\, 0)\; font-family: Georgia\; font-size: 13.3333px\;" />\n<span style="color: rgb(13\, 6\, 0)\; font-family: Georgia\; font-size: 13.3333px\;">The meetings held by KASB are being referred to as a &ldquo\;New Day in Kansas Education&rdquo\; and will feature a look at new vision\, finance formula\, funding\, accountability and school redesign. Topics for discussion will be the challenges of preparing more students for success after high school graduation\, jobs skills and postsecondary education.</span><br style="color: rgb(13\, 6\, 0)\; font-family: Georgia\; font-size: 13.3333px\;" />\n<br style="color: rgb(13\, 6\, 0)\; font-family: Georgia\; font-size: 13.3333px\;" />\n<span style="color: rgb(13\, 6\, 0)\; font-family: Georgia\; font-size: 13.3333px\;">The public is invited to attend and no sign up is necessary.</span>
LOCATION:USD 428 District Education Center 201 S. Patton Road Great Bend\, KS 67530
UID:e.2303.3053
SEQUENCE:3
DTSTAMP:20260422T155742Z
URL:https://members.greatbend.org/events/details/kansas-association-of-school-boards-presentation-3053
END:VEVENT

END:VCALENDAR
