BEGIN:VCALENDAR
VERSION:2.0
PRODID:-//ChamberMaster//Event Calendar 2.0//EN
METHOD:PUBLISH
X-PUBLISHED-TTL:P3D
REFRESH-INTERVAL:P3D
CALSCALE:GREGORIAN
BEGIN:VEVENT
DTSTART:20210408T230000Z
DTEND:20210409T010000Z
X-MICROSOFT-CDO-ALLDAYEVENT:FALSE
SUMMARY:Kansas CPR Training-Babysitter Class
DESCRIPTION:CPR/First Aid class scheduled for kids who babysit.
X-ALT-DESC;FMTTYPE=text/html:<div>&nbsp\;</div>\n\n<div>CPR/First Aid class scheduled for kids who babysit.</div>\n
LOCATION:The class will be held in Hoisington at the Activity Center 1200 Susank Rd
UID:e.2303.8320
SEQUENCE:3
DTSTAMP:20260419T134847Z
URL:https://members.greatbend.org/events/details/kansas-cpr-training-babysitter-class-8320
END:VEVENT

END:VCALENDAR
