BEGIN:VCALENDAR
VERSION:2.0
PRODID:-//ChamberMaster//Event Calendar 2.0//EN
METHOD:PUBLISH
X-PUBLISHED-TTL:P3D
REFRESH-INTERVAL:P3D
CALSCALE:GREGORIAN
BEGIN:VEVENT
DTSTART;VALUE=DATE:20201027
DTEND;VALUE=DATE:20201030
TRANSP:TRANSPARENT
X-MICROSOFT-CDO-ALLDAYEVENT:TRUE
SUMMARY:KANSAS WORKS Virtual Job Fairs
DESCRIPTION:KANSAS WORKS Virtual Job Fairs\n\nOctober 27-29\n\nbeginning on October 27 to 5pm on October 29.\n\nJob Seeker Pre-Registration Begins October 14th:\n\nhttps://kansasworksvirtualjobfair.easyvirtualfair.com/\n\nRegistration is now required for each job fair.\n\n-Employers from across the state will be hiring\n\n-Job seekers will have the opportunity to live chat with employers as the employers schedule allows\n\n-Job seekers can join via computer or cell phone
X-ALT-DESC;FMTTYPE=text/html:KANSAS WORKS Virtual Job Fairs<br />\nOctober 27-29<br />\nbeginning on October 27 to 5pm on October 29.<br />\nJob Seeker Pre-Registration Begins October 14th:<br />\nhttps://kansasworksvirtualjobfair.easyvirtualfair.com/<br />\nRegistration is now required for each job fair.<br />\n-Employers from across the state will be hiring<br />\n-Job seekers will have the opportunity to live chat with employers as the employers schedule allows<br />\n-Job seekers can join via computer or cell phone
LOCATION:Online https://kansasworksvirtualjobfair.easyvirtualfair.com/
UID:e.2303.8103
SEQUENCE:3
DTSTAMP:20260425T105144Z
URL:https://members.greatbend.org/events/details/kansas-works-virtual-job-fairs-8103
END:VEVENT

END:VCALENDAR
