BEGIN:VCALENDAR
VERSION:2.0
PRODID:-//ChamberMaster//Event Calendar 2.0//EN
METHOD:PUBLISH
X-PUBLISHED-TTL:P3D
REFRESH-INTERVAL:P3D
CALSCALE:GREGORIAN
BEGIN:VEVENT
DTSTART:20200220T200000Z
DTEND:20200221T000000Z
X-MICROSOFT-CDO-ALLDAYEVENT:FALSE
SUMMARY:Kids (& Adults) Painting on Canvas or Wood Shapes
DESCRIPTION:Thursday\, Feb. 20th 2-6 pm You can come anytime\, just allow 1 1/2-2 hours to complete your projects. *Ages 3-5 (with adult). 6 and up (Adults can paint also!) *$20 each This is a Special Price for today Only! *Join us on this afternoon off of school and you can either paint an 8 x 10 canvas anyway you'd like or you can pick a 12" wood shape and also paint it anyway you choose! I will be here to help guide you and give you ideas! Everything will be provided for the project and all you need to do is bring yourself! Feel free to bring a drink and snack if you would like! Please register here to hold your spot! https://squareup.com/store/dilly-doc/item/kids-crafty-class-frame-or-paque
X-ALT-DESC;FMTTYPE=text/html:Thursday\, Feb. 20th 2-6 pm You can come anytime\, just allow 1 1/2-2 hours to complete your projects. *Ages 3-5 (with adult). 6 and up (Adults can paint also!) *$20 each This is a Special Price for today Only! *Join us on this afternoon off of school and you can either paint an 8 x 10 canvas anyway you&rsquo\;d like or you can pick a 12&rdquo\; wood shape and also paint it anyway you choose! I will be here to help guide you and give you ideas! Everything will be provided for the project and all you need to do is bring yourself! Feel free to bring a drink and snack if you would like! Please register here to hold your spot! https://squareup.com/store/dilly-doc/item/kids-crafty-class-frame-or-paque
LOCATION:1119 Main St.
UID:e.2303.7702
SEQUENCE:3
DTSTAMP:20260419T225323Z
URL:https://members.greatbend.org/events/details/kids-adults-painting-on-canvas-or-wood-shapes-7702
END:VEVENT

END:VCALENDAR
