BEGIN:VCALENDAR
VERSION:2.0
PRODID:-//ChamberMaster//Event Calendar 2.0//EN
METHOD:PUBLISH
X-PUBLISHED-TTL:P3D
REFRESH-INTERVAL:P3D
CALSCALE:GREGORIAN
BEGIN:VEVENT
DTSTART:20180806T180000Z
DTEND:20180806T203000Z
X-MICROSOFT-CDO-ALLDAYEVENT:FALSE
SUMMARY:Kids Canvas Class
DESCRIPTION:Kids 2-4 are asked to have an adult with them. 5 and up can come alone if they would like! We will all be given an 8 x 10 canvas to create what we would like on it. So it is good to come with an idea! I will have some Ideas to help. I do have some stencils\, rulers\, polka dot sponges & etc. to help! They will all be unique and we will have a good time! There may also be some glitter involved!! Adults are welcome to paint as well. :)
X-ALT-DESC;FMTTYPE=text/html:Kids 2-4 are asked to have an adult with them. 5 and up can come alone if they would like! We will all be given an 8 x 10 canvas to create what we would like on it. So it is good to come with an idea! I will have some Ideas to help. I do have some stencils\, rulers\, polka dot sponges &amp\; etc. to help! They will all be unique and we will have a good time! There may also be some glitter involved!! Adults are welcome to paint as well. :)
LOCATION:Dilly & Doc 1119 Main St. Great Bend
UID:e.2303.6083
SEQUENCE:3
DTSTAMP:20260422T081857Z
URL:https://members.greatbend.org/events/details/kids-canvas-class-6083
END:VEVENT

END:VCALENDAR
