BEGIN:VCALENDAR
VERSION:2.0
PRODID:-//ChamberMaster//Event Calendar 2.0//EN
METHOD:PUBLISH
X-PUBLISHED-TTL:P3D
REFRESH-INTERVAL:P3D
CALSCALE:GREGORIAN
BEGIN:VEVENT
DTSTART:20210425T010000Z
DTEND:20210425T070000Z
X-MICROSOFT-CDO-ALLDAYEVENT:FALSE
SUMMARY:Kikin Y Los Astros Concert
DESCRIPTION:Kikin Y Los Astros Concert
X-ALT-DESC;FMTTYPE=text/html:Kikin Y Los Astros Concert
LOCATION:Expo I 9810 B-29 Way\, Great Bend\, Kansas
UID:e.2303.8338
SEQUENCE:3
DTSTAMP:20260419T135703Z
URL:https://members.greatbend.org/events/details/kikin-y-los-astros-concert-8338
END:VEVENT

END:VCALENDAR
