BEGIN:VCALENDAR
VERSION:2.0
PRODID:-//ChamberMaster//Event Calendar 2.0//EN
METHOD:PUBLISH
X-PUBLISHED-TTL:P3D
REFRESH-INTERVAL:P3D
CALSCALE:GREGORIAN
BEGIN:VEVENT
DTSTART:20171028T160000Z
DTEND:20171028T170000Z
X-MICROSOFT-CDO-ALLDAYEVENT:FALSE
SUMMARY:Kiwanis Candy Parade
DESCRIPTION:The Great Bend Kiwanis Club invites the community to attend the annual "Candy Parade" on Saturday\, October 28th in Downtown Great Bend. Dressing up in Halloween costumes is encouraged as children & families enjoy a "walking parade" through downtown Great Bend. Local businesses will greet participants with candy at the storefronts and entertainment in the square will follow.
X-ALT-DESC;FMTTYPE=text/html:The Great Bend Kiwanis Club invites the community to attend the annual &quot\;Candy Parade&quot\; on Saturday\, October 28th in Downtown Great Bend. Dressing up in Halloween costumes is encouraged as children &amp\; families enjoy a &quot\;walking parade&quot\; through downtown Great Bend. Local businesses will greet participants with candy at the storefronts and entertainment in the square will follow.
LOCATION:Jack Kilby Square\, Downtown Great Bend
UID:e.2303.3392
SEQUENCE:3
DTSTAMP:20260422T131108Z
URL:https://members.greatbend.org/events/details/kiwanis-candy-parade-3392
END:VEVENT

END:VCALENDAR
