BEGIN:VCALENDAR
VERSION:2.0
PRODID:-//ChamberMaster//Event Calendar 2.0//EN
METHOD:PUBLISH
X-PUBLISHED-TTL:P3D
REFRESH-INTERVAL:P3D
CALSCALE:GREGORIAN
BEGIN:VEVENT
DTSTART:20170916T140000Z
DTEND:20170916T170000Z
X-MICROSOFT-CDO-ALLDAYEVENT:FALSE
SUMMARY:KWEC Butterfly Festival
DESCRIPTION:All things "butterfly" is the focus of the Kansas Wetlands Education Center's annual Butterfly Festival\n\n\n\nThis year's Butterfly Festival will be held on Saturday\, September 16\, 2017 from 9 a.m. to noon.\n\n\n\nAlso\, new this year\, enjoy a Butterfly Magic Show by The Fishin' Magicians.\n\n\n\nFrom making milkweed seed bombs to tagging monarch butterflies\, kids and adults will find plenty to do during this free event. Favorite activities for the Festival include monarch tagging\, an insect zoo\, milkweed seed bombs\, butterfly photo boards\, crafts\, and door prizes.\n\n\n\nNets and tags will be available for those who want to capture and tag monarch butterflies. Participants will receive information about the tagging process before heading out with a tagging leader to search for Monarch butterflies.\n\n\n\nKids\, and adults who want to be kids again\, can play in the mud and make a seed bomb\, composed of clay\, compost\, water and native flower seeds\, to take home. Get in some practice by slinging premade milkweed seed bombs into KWEC's prairie area using giant slingshots.\n\n\n\nFind your inner insect by taking your photo at monarch butterfly and caterpillar photo boards. Create a butterfly\, then paint your hands in the pattern and apply it to the butterfly mural. Refuel with light refreshments and drinks. Temporary tattoos\, games and other activities round out the morning's activities.\n\n\n\nInformation on butterfly-friendly plants and other attractants will be available and visitors may also walk through the wildflower/butterfly garden to view examples of butterfly-friendly plants.\n\n\n\nFor more information contact KWEC at 1-877-243-9268 or visit: wetlandscenter.fhsu.edu.
X-ALT-DESC;FMTTYPE=text/html:<span style="color: rgb(13\, 6\, 0)\; font-family: Georgia\; font-size: 13.3333px\;">All things &ldquo\;butterfly&rdquo\; is the focus of the Kansas Wetlands Education Center&rsquo\;s annual Butterfly Festival</span><br style="color: rgb(13\, 6\, 0)\; font-family: Georgia\; font-size: 13.3333px\;" />\n<br style="color: rgb(13\, 6\, 0)\; font-family: Georgia\; font-size: 13.3333px\;" />\n<span style="color: rgb(13\, 6\, 0)\; font-family: Georgia\; font-size: 13.3333px\;">This year&rsquo\;s Butterfly Festival will be held on Saturday\, September 16\, 2017 from 9 a.m. to noon.</span><br style="color: rgb(13\, 6\, 0)\; font-family: Georgia\; font-size: 13.3333px\;" />\n<br style="color: rgb(13\, 6\, 0)\; font-family: Georgia\; font-size: 13.3333px\;" />\n<span style="color: rgb(13\, 6\, 0)\; font-family: Georgia\; font-size: 13.3333px\;">Also\, new this year\, enjoy a Butterfly Magic Show by The Fishin&rsquo\; Magicians.</span><br style="color: rgb(13\, 6\, 0)\; font-family: Georgia\; font-size: 13.3333px\;" />\n<br style="color: rgb(13\, 6\, 0)\; font-family: Georgia\; font-size: 13.3333px\;" />\n<span style="color: rgb(13\, 6\, 0)\; font-family: Georgia\; font-size: 13.3333px\;">From making milkweed seed bombs to tagging monarch butterflies\, kids and adults will find plenty to do during this free event. Favorite activities for the Festival include monarch tagging\, an insect zoo\, milkweed seed bombs\, butterfly photo boards\, crafts\, and door prizes.</span><br style="color: rgb(13\, 6\, 0)\; font-family: Georgia\; font-size: 13.3333px\;" />\n<br style="color: rgb(13\, 6\, 0)\; font-family: Georgia\; font-size: 13.3333px\;" />\n<span style="color: rgb(13\, 6\, 0)\; font-family: Georgia\; font-size: 13.3333px\;">Nets and tags will be available for those who want to capture and tag monarch butterflies. Participants will receive information about the tagging process before heading out with a tagging leader to search for Monarch butterflies.</span><br style="color: rgb(13\, 6\, 0)\; font-family: Georgia\; font-size: 13.3333px\;" />\n<br style="color: rgb(13\, 6\, 0)\; font-family: Georgia\; font-size: 13.3333px\;" />\n<span style="color: rgb(13\, 6\, 0)\; font-family: Georgia\; font-size: 13.3333px\;">Kids\, and adults who want to be kids again\, can play in the mud and make a seed bomb\, composed of clay\, compost\, water and native flower seeds\, to take home. Get in some practice by slinging premade milkweed seed bombs into KWEC&rsquo\;s prairie area using giant slingshots.</span><br style="color: rgb(13\, 6\, 0)\; font-family: Georgia\; font-size: 13.3333px\;" />\n<br style="color: rgb(13\, 6\, 0)\; font-family: Georgia\; font-size: 13.3333px\;" />\n<span style="color: rgb(13\, 6\, 0)\; font-family: Georgia\; font-size: 13.3333px\;">Find your inner insect by taking your photo at monarch butterfly and caterpillar photo boards. Create a butterfly\, then paint your hands in the pattern and apply it to the butterfly mural. Refuel with light refreshments and drinks. Temporary tattoos\, games and other activities round out the morning&rsquo\;s activities.</span><br style="color: rgb(13\, 6\, 0)\; font-family: Georgia\; font-size: 13.3333px\;" />\n<br style="color: rgb(13\, 6\, 0)\; font-family: Georgia\; font-size: 13.3333px\;" />\n<span style="color: rgb(13\, 6\, 0)\; font-family: Georgia\; font-size: 13.3333px\;">Information on butterfly-friendly plants and other attractants will be available and visitors may also walk through the wildflower/butterfly garden to view examples of butterfly-friendly plants.</span><br style="color: rgb(13\, 6\, 0)\; font-family: Georgia\; font-size: 13.3333px\;" />\n<br style="color: rgb(13\, 6\, 0)\; font-family: Georgia\; font-size: 13.3333px\;" />\n<span style="color: rgb(13\, 6\, 0)\; font-family: Georgia\; font-size: 13.3333px\;">For more information contact KWEC at 1-877-243-9268 or visit: wetlandscenter.fhsu.edu.</span>
LOCATION:Kansas Wetlands Education Center 592 NE K-156 Hwy Great Bend\, KS 67530
UID:e.2303.2999
SEQUENCE:3
DTSTAMP:20260422T144101Z
URL:https://members.greatbend.org/events/details/kwec-butterfly-festival-2999
END:VEVENT

END:VCALENDAR
