BEGIN:VCALENDAR
VERSION:2.0
PRODID:-//ChamberMaster//Event Calendar 2.0//EN
METHOD:PUBLISH
X-PUBLISHED-TTL:P3D
REFRESH-INTERVAL:P3D
CALSCALE:GREGORIAN
BEGIN:VEVENT
DTSTART:20220715T180000Z
DTEND:20220715T210000Z
X-MICROSOFT-CDO-ALLDAYEVENT:FALSE
SUMMARY:KWEC Craft Drop-In
DESCRIPTION:Come be creative at the Kansas Wetlands Education Center on select Fridays in July. New theme each week. Recommended ages are 5-13. These are free\, come-and-go crafts. July 15 - Construct and paint a window bird feeder from a kit.
X-ALT-DESC;FMTTYPE=text/html:Come be creative at the Kansas Wetlands Education Center on select Fridays in July. New theme each week. Recommended ages are 5-13. These are free\, come-and-go crafts. July 15 - Construct and paint a window bird feeder from a kit.
LOCATION:Kansas Wetlands Education Center 592 NE K-156 Hwy Great Bend\, KS 67530
UID:e.2303.10822
SEQUENCE:3
DTSTAMP:20260423T032437Z
URL:https://members.greatbend.org/events/details/kwec-craft-drop-in-10822
END:VEVENT

END:VCALENDAR
