BEGIN:VCALENDAR
VERSION:2.0
PRODID:-//ChamberMaster//Event Calendar 2.0//EN
METHOD:PUBLISH
X-PUBLISHED-TTL:P3D
REFRESH-INTERVAL:P3D
CALSCALE:GREGORIAN
BEGIN:VEVENT
DTSTART:20171015T190000Z
DTEND:20171015T210000Z
X-MICROSOFT-CDO-ALLDAYEVENT:FALSE
SUMMARY:KWEC Craft Series: Cold Process Soap Making
DESCRIPTION:Cold process soap making allows you to create your own homemade soap. Making your own cleaning products lets you control exactly what goes into them! Perfect for anyone with allergies or sensitivities to commercial soaps\, or who is simply concerned about knowing where their products come from. This workshop is for adults\, since all soap making requires some caustic chemicals.\n\n\n\nJoin us at the Kansas Wetlands Education Center on Sunday\, October 15th at 2 pm for this FREE workshop. All materials will be provided. Register quickly\, this is one of our most requested workshops! Give us a call at 1-877-243-9268 to register.
X-ALT-DESC;FMTTYPE=text/html:<span style="color: rgb(13\, 6\, 0)\; font-family: Georgia\; font-size: 13.3333px\;">Cold process soap making allows you to create your own homemade soap. Making your own cleaning products lets you control exactly what goes into them! Perfect for anyone with allergies or sensitivities to commercial soaps\, or who is simply concerned about knowing where their products come from. This workshop is for adults\, since all soap making requires some caustic chemicals.</span><br style="color: rgb(13\, 6\, 0)\; font-family: Georgia\; font-size: 13.3333px\;" />\n<br style="color: rgb(13\, 6\, 0)\; font-family: Georgia\; font-size: 13.3333px\;" />\n<span style="color: rgb(13\, 6\, 0)\; font-family: Georgia\; font-size: 13.3333px\;">Join us at the Kansas Wetlands Education Center on Sunday\, October 15th at 2 pm for this FREE workshop. All materials will be provided. Register quickly\, this is one of our most requested workshops! Give us a call at 1-877-243-9268 to register.</span>
LOCATION:Kansas Wetlands Education Center 592 NE K-156 Hwy Great Bend\, KS 67530
UID:e.2303.3000
SEQUENCE:3
DTSTAMP:20260422T131910Z
URL:https://members.greatbend.org/events/details/kwec-craft-series-cold-process-soap-making-3000
END:VEVENT

END:VCALENDAR
