BEGIN:VCALENDAR
VERSION:2.0
PRODID:-//ChamberMaster//Event Calendar 2.0//EN
METHOD:PUBLISH
X-PUBLISHED-TTL:P3D
REFRESH-INTERVAL:P3D
CALSCALE:GREGORIAN
BEGIN:VEVENT
DTSTART:20171202T150000Z
DTEND:20171202T180000Z
X-MICROSOFT-CDO-ALLDAYEVENT:FALSE
SUMMARY:KWEC Holiday Open House
DESCRIPTION:Get into the Christmas spirit with family activities\, refreshments and Gift Store promotions at the Kansas Wetlands Education Center. Free and open to the public
X-ALT-DESC;FMTTYPE=text/html:Get into the Christmas spirit with family activities\, refreshments and Gift Store promotions at the Kansas Wetlands Education Center. Free and open to the public
LOCATION:Kansas Wetlands Education Center
UID:e.2303.3476
SEQUENCE:3
DTSTAMP:20260422T092553Z
URL:https://members.greatbend.org/events/details/kwec-holiday-open-house-3476
END:VEVENT

END:VCALENDAR
