BEGIN:VCALENDAR
VERSION:2.0
PRODID:-//ChamberMaster//Event Calendar 2.0//EN
METHOD:PUBLISH
X-PUBLISHED-TTL:P3D
REFRESH-INTERVAL:P3D
CALSCALE:GREGORIAN
BEGIN:VEVENT
DTSTART:20170812T020000Z
DTEND:20170812T043000Z
X-MICROSOFT-CDO-ALLDAYEVENT:FALSE
SUMMARY:KWEC hosts Perseid Meteor Shower Party
DESCRIPTION:The Kansas Wetlands Education Center is hosting a viewing party for the Perseid Meteor Shower! Join us at the KWEC at 9 pm on Friday\, August 11th for a FREE fun filled family evening of crafts\, games\, snacks\, and stargazing. We'll be partying no matter the weather\, so don't let a few clouds scare you and your family away!\n\n\n\nThe Perseid Meteor Shower happens every year in the beginning of August when the earth passes through the trail of dust and debris left by the Swift-Tuttle comet. It's one of the most exciting meteor showers in the northern hemisphere\, with over 50 meteors per hour at its peak! This meteor shower got its name because the meteors appear to come from the constellation Perseus.\n\n\n\nEveryone can enjoy s'mores roasted over a fire along with other refreshments while we watch the sky.\n\n\n\nIn addition to activities and crafts\, we will have the FHSU Science and Mathematics Education Institute's inflatable planetarium for guaranteed star viewing!\n\n\n\nActivities will begin at 9 pm\, and run until it's dark enough to see the meteor shower. Please call the KWEC at 1-877-243-9268 for more information about this fun\, FREE\, family event! Bring a lawn chair or blanket for more comfortable stargazing.
X-ALT-DESC;FMTTYPE=text/html:<span style="color: rgb(13\, 6\, 0)\; font-family: Georgia\; font-size: 13.3333px\;">The Kansas Wetlands Education Center is hosting a viewing party for the Perseid Meteor Shower! Join us at the KWEC at 9 pm on Friday\, August 11th for a FREE fun filled family evening of crafts\, games\, snacks\, and stargazing. We&rsquo\;ll be partying no matter the weather\, so don&rsquo\;t let a few clouds scare you and your family away!</span><br style="color: rgb(13\, 6\, 0)\; font-family: Georgia\; font-size: 13.3333px\;" />\n<br style="color: rgb(13\, 6\, 0)\; font-family: Georgia\; font-size: 13.3333px\;" />\n<span style="color: rgb(13\, 6\, 0)\; font-family: Georgia\; font-size: 13.3333px\;">The Perseid Meteor Shower happens every year in the beginning of August when the earth passes through the trail of dust and debris left by the Swift-Tuttle comet. It&rsquo\;s one of the most exciting meteor showers in the northern hemisphere\, with over 50 meteors per hour at its peak! This meteor shower got its name because the meteors appear to come from the constellation Perseus.</span><br style="color: rgb(13\, 6\, 0)\; font-family: Georgia\; font-size: 13.3333px\;" />\n<br style="color: rgb(13\, 6\, 0)\; font-family: Georgia\; font-size: 13.3333px\;" />\n<span style="color: rgb(13\, 6\, 0)\; font-family: Georgia\; font-size: 13.3333px\;">Everyone can enjoy s&rsquo\;mores roasted over a fire along with other refreshments while we watch the sky.</span><br style="color: rgb(13\, 6\, 0)\; font-family: Georgia\; font-size: 13.3333px\;" />\n<br style="color: rgb(13\, 6\, 0)\; font-family: Georgia\; font-size: 13.3333px\;" />\n<span style="color: rgb(13\, 6\, 0)\; font-family: Georgia\; font-size: 13.3333px\;">In addition to activities and crafts\, we will have the FHSU Science and Mathematics Education Institute&rsquo\;s inflatable planetarium for guaranteed star viewing!</span><br style="color: rgb(13\, 6\, 0)\; font-family: Georgia\; font-size: 13.3333px\;" />\n<br style="color: rgb(13\, 6\, 0)\; font-family: Georgia\; font-size: 13.3333px\;" />\n<span style="color: rgb(13\, 6\, 0)\; font-family: Georgia\; font-size: 13.3333px\;">Activities will begin at 9 pm\, and run until it&rsquo\;s dark enough to see the meteor shower. Please call the KWEC at 1-877-243-9268 for more information about this fun\, FREE\, family event! Bring a lawn chair or blanket for more comfortable stargazing.</span>
LOCATION:Kansas Wetlands Education Center 592 NE K-156 Hwy Great Bend\, KS 67530
UID:e.2303.3002
SEQUENCE:3
DTSTAMP:20260422T160139Z
URL:https://members.greatbend.org/events/details/kwec-hosts-perseid-meteor-shower-party-08-11-2017-3002
END:VEVENT

END:VCALENDAR
