BEGIN:VCALENDAR
VERSION:2.0
PRODID:-//ChamberMaster//Event Calendar 2.0//EN
METHOD:PUBLISH
X-PUBLISHED-TTL:P3D
REFRESH-INTERVAL:P3D
CALSCALE:GREGORIAN
BEGIN:VEVENT
DTSTART:20230318T150000Z
DTEND:20230318T190000Z
X-MICROSOFT-CDO-ALLDAYEVENT:FALSE
SUMMARY:Laundry Love
DESCRIPTION:The mission of Laundry Love is to wash the clothes and bedding of low/no income families and individuals. Laundry Love exists to help prevent physical and emotional strain that poor health and hygiene places on the under-resourced in our community.
X-ALT-DESC;FMTTYPE=text/html:The mission of Laundry Love is to wash the clothes and bedding of low/no income families and individuals. Laundry Love exists to help prevent physical and emotional strain that poor health and hygiene places on the under-resourced in our community.
LOCATION:Discount Laundry 924 Jefferson St
UID:e.2303.11646
SEQUENCE:3
DTSTAMP:20260422T013257Z
URL:https://members.greatbend.org/events/details/laundry-love-03-18-2023-11646
END:VEVENT

END:VCALENDAR
