BEGIN:VCALENDAR
VERSION:2.0
PRODID:-//ChamberMaster//Event Calendar 2.0//EN
METHOD:PUBLISH
X-PUBLISHED-TTL:P3D
REFRESH-INTERVAL:P3D
CALSCALE:GREGORIAN
BEGIN:VEVENT
DTSTART:20220726T130000Z
DTEND:20220726T170000Z
X-MICROSOFT-CDO-ALLDAYEVENT:FALSE
SUMMARY:Leadership Golden Belt
DESCRIPTION:Leadership Golden Belt is a community program that explores the leadership skills and capacities of Barton\, Pawnee\, Rush\, & Stafford Counties. This experience will empower participants to understand what adaptive challenges means contextually. Bringing their challenges to the table will help them leave the final session feeling confident and experiencing movement.
X-ALT-DESC;FMTTYPE=text/html:Leadership Golden Belt is a community program that explores the leadership skills and capacities of Barton\, Pawnee\, Rush\, &amp\; Stafford Counties. This experience will empower participants to understand what adaptive challenges means contextually. Bringing their challenges to the table will help them leave the final session feeling confident and experiencing movement.
LOCATION:Central Kansas Dream Center 2100 Broadway Ave. Great Bend\, Ks
UID:e.2303.10281
SEQUENCE:3
DTSTAMP:20260423T032652Z
URL:https://members.greatbend.org/events/details/leadership-golden-belt-07-26-2022-10281
END:VEVENT

END:VCALENDAR
