BEGIN:VCALENDAR
VERSION:2.0
PRODID:-//ChamberMaster//Event Calendar 2.0//EN
METHOD:PUBLISH
X-PUBLISHED-TTL:P3D
REFRESH-INTERVAL:P3D
CALSCALE:GREGORIAN
BEGIN:VEVENT
DTSTART:20230208T003000Z
DTEND:20230208T013000Z
X-MICROSOFT-CDO-ALLDAYEVENT:FALSE
SUMMARY:League of Women Voters honors 50 year member!
DESCRIPTION:Please join the League of Women Voters as they honor Mary Frances Hogg for her 50 years in the League!\n\n\n\nTuesday\, February 7th\n\n6:30pm\n\n\n\nGreat Bend Senior Center\n\n2005 Kansas\n\nGreat Bend\, KS 67530
X-ALT-DESC;FMTTYPE=text/html:Please join the League of Women Voters as they honor Mary Frances Hogg for her 50 years in the League!<br />\n<br />\nTuesday\, February 7th<br />\n6:30pm<br />\n<br />\nGreat Bend Senior Center<br />\n2005 Kansas<br />\nGreat Bend\, KS 67530
LOCATION:Great Bend Senior Center 2005 Kansas Great Bend\, KS 67530
UID:e.2303.11647
SEQUENCE:3
DTSTAMP:20260424T215613Z
URL:https://members.greatbend.org/events/details/league-of-women-voters-honors-50-year-member-11647
END:VEVENT

END:VCALENDAR
