BEGIN:VCALENDAR
VERSION:2.0
PRODID:-//ChamberMaster//Event Calendar 2.0//EN
METHOD:PUBLISH
X-PUBLISHED-TTL:P3D
REFRESH-INTERVAL:P3D
CALSCALE:GREGORIAN
BEGIN:VEVENT
DTSTART:20240615T153000Z
DTEND:20240615T163000Z
X-MICROSOFT-CDO-ALLDAYEVENT:FALSE
SUMMARY:League of Women Voters Presents: The Electoral College
DESCRIPTION:This educational program will be about the electoral college & why the League of Women Voters advocates for the abolishment of the electoral college and to support the National Popular Vote Compact to elect our President.
X-ALT-DESC;FMTTYPE=text/html:This educational program will be about the electoral college &amp\; why the League of Women Voters advocates for the abolishment of the electoral college and to support the National Popular Vote Compact to elect our President.&nbsp\;
LOCATION:Great Bend Public Library 1409 Williams St Great Bend\, KS 67530
UID:e.2303.13716
SEQUENCE:3
DTSTAMP:20260425T154930Z
URL:https://members.greatbend.org/events/details/league-of-women-voters-presents-the-electoral-college-13716
END:VEVENT

END:VCALENDAR
