BEGIN:VCALENDAR
VERSION:2.0
PRODID:-//ChamberMaster//Event Calendar 2.0//EN
METHOD:PUBLISH
X-PUBLISHED-TTL:P3D
REFRESH-INTERVAL:P3D
CALSCALE:GREGORIAN
BEGIN:VEVENT
DTSTART:20200229T190000Z
DTEND:20200229T220000Z
X-MICROSOFT-CDO-ALLDAYEVENT:FALSE
SUMMARY:Leap Day 2020: A Reflective Journey
DESCRIPTION:Celebrate Leap Day 2020 with a reflective journey through leaving behind and moving forward. Leap Day can serve as a symbolic turning point\, a resetting of mindset\, a "now point" to reflect on the past and on the future without fear. Explore letting the past go\, living in the "now\," and embracing the future through the creative processes of reading\, writing\, and artistic expression.\n\nAll supplies provided except for a camera. Please bring your camera or cell phone with camera.
X-ALT-DESC;FMTTYPE=text/html:<p style="color: rgb(0\, 0\, 0)\; font-family: Arial\; font-size: 16px\;">Celebrate&nbsp\;<span class="il">Leap</span>&nbsp\;<span class="il">Day</span>&nbsp\;2020 with a reflective journey through leaving behind and moving forward.&nbsp\;<span class="il">Leap</span>&nbsp\;<span class="il">Day</span>&nbsp\;can serve as a symbolic turning point\, a resetting of mindset\, a &ldquo\;now point&rdquo\; to reflect on the past and on the future without fear. Explore letting the past go\, living in the &ldquo\;now\,&rdquo\; and embracing the future through the creative processes of reading\, writing\, and artistic expression.</p>\n\n<p style="color: rgb(0\, 0\, 0)\; font-family: Arial\; font-size: 16px\;">All supplies provided except for a camera. Please bring your camera or cell phone with camera.</p>\n
LOCATION:
UID:e.2303.7629
SEQUENCE:3
DTSTAMP:20260420T002339Z
URL:https://members.greatbend.org/events/details/leap-day-2020-a-reflective-journey-7629
END:VEVENT

END:VCALENDAR
