BEGIN:VCALENDAR
VERSION:2.0
PRODID:-//ChamberMaster//Event Calendar 2.0//EN
METHOD:PUBLISH
X-PUBLISHED-TTL:P3D
REFRESH-INTERVAL:P3D
CALSCALE:GREGORIAN
BEGIN:VEVENT
DTSTART:20220715T140000Z
DTEND:20220716T041500Z
X-MICROSOFT-CDO-ALLDAYEVENT:FALSE
SUMMARY:Lemonade Wars
DESCRIPTION:It's a battle of the July R.E.A.C.H program! Please come out and support our brand new July Summer program by getting lemonade from either Park Elementary School or Eisenhower Elementary School
X-ALT-DESC;FMTTYPE=text/html:It&#39\;s a battle of the July R.E.A.C.H program! Please come out and support our brand new July Summer program by getting lemonade from either Park Elementary School or Eisenhower Elementary School
LOCATION:Park Elementary School Eisenhower Elementary School
UID:e.2303.10856
SEQUENCE:3
DTSTAMP:20260423T032402Z
URL:https://members.greatbend.org/events/details/lemonade-wars-10856
END:VEVENT

END:VCALENDAR
