BEGIN:VCALENDAR
VERSION:2.0
PRODID:-//ChamberMaster//Event Calendar 2.0//EN
METHOD:PUBLISH
X-PUBLISHED-TTL:P3D
REFRESH-INTERVAL:P3D
CALSCALE:GREGORIAN
BEGIN:VEVENT
DTSTART:20200214T163000Z
DTEND:20200214T180000Z
X-MICROSOFT-CDO-ALLDAYEVENT:FALSE
SUMMARY:Life-Size Candy Land
DESCRIPTION:Enter the Candy Land world as a game piece as you travel through the "board" and do activities at each station as you make your way to the Candy Castle! For families with children up through 5th grade.
X-ALT-DESC;FMTTYPE=text/html:Enter the Candy Land world as a game piece as you travel through the &quot\;board&quot\; and do activities at each station as you make your way to the Candy Castle! For families with children up through 5th grade.
LOCATION:Great Bend Public Library
UID:e.2303.7693
SEQUENCE:3
DTSTAMP:20260420T002812Z
URL:https://members.greatbend.org/events/details/life-size-candy-land-02-14-2020-7693
END:VEVENT

END:VCALENDAR
