BEGIN:VCALENDAR
VERSION:2.0
PRODID:-//ChamberMaster//Event Calendar 2.0//EN
METHOD:PUBLISH
X-PUBLISHED-TTL:P3D
REFRESH-INTERVAL:P3D
CALSCALE:GREGORIAN
BEGIN:VEVENT
DTSTART:20171005T213000Z
DTEND:20171006T000000Z
X-MICROSOFT-CDO-ALLDAYEVENT:FALSE
SUMMARY:Lions Club Spaghetti Feed
DESCRIPTION:Noon Lions Club 33rd annual spaghetti feed to raise funds for service projects.
X-ALT-DESC;FMTTYPE=text/html:Noon Lions Club 33rd annual spaghetti feed to raise funds for service projects.
LOCATION:Elks Club 1120 Kansas Ave Great Bend\, KS 67530
UID:e.2303.2901
SEQUENCE:3
DTSTAMP:20260422T132929Z
URL:https://members.greatbend.org/events/details/lions-club-spaghetti-feed-2901
END:VEVENT

END:VCALENDAR
