BEGIN:VCALENDAR
VERSION:2.0
PRODID:-//ChamberMaster//Event Calendar 2.0//EN
METHOD:PUBLISH
X-PUBLISHED-TTL:P3D
REFRESH-INTERVAL:P3D
CALSCALE:GREGORIAN
BEGIN:VEVENT
DTSTART:20201017T150000Z
DTEND:20201017T230000Z
X-MICROSOFT-CDO-ALLDAYEVENT:FALSE
SUMMARY:Longs Pumpkin Patch Open
DESCRIPTION:Family owned & operated U Pick Pumpkin Patch Opening soon for 2020 season: September 26 through Halloween Saturdays 10am to 6pm. Sundays 1pm to 5pm. Call to schedule field trips or group events 620-792-3503 or 620-617-8181
X-ALT-DESC;FMTTYPE=text/html:<span style="color: rgb(5\, 5\, 5)\; font-family: &quot\;Segoe UI Historic&quot\;\, &quot\;Segoe UI&quot\;\, Helvetica\, Arial\, sans-serif\; font-size: 15px\;">Family owned &amp\; operated U Pick Pumpkin Patch Opening soon for 2020 season: September 26 through Halloween Saturdays 10am to 6pm. Sundays 1pm to 5pm. Call to schedule field trips or group events 620-792-3503 or 620-617-8181</span><span style="color: rgb(5\, 5\, 5)\; font-family: &quot\;Segoe UI Historic&quot\;\, &quot\;Segoe UI&quot\;\, Helvetica\, Arial\, sans-serif\; font-size: 15px\;">&nbsp\;</span>
LOCATION:163 NE 30 Rd\, Great Bend\, Kansas From Highway 281 and NE 30 Road go East to Sunset Road. Turn South.
UID:e.2303.8058
SEQUENCE:3
DTSTAMP:20260425T122020Z
URL:https://members.greatbend.org/events/details/longs-pumpkin-patch-open-8058
END:VEVENT

END:VCALENDAR
