BEGIN:VCALENDAR
VERSION:2.0
PRODID:-//ChamberMaster//Event Calendar 2.0//EN
METHOD:PUBLISH
X-PUBLISHED-TTL:P3D
REFRESH-INTERVAL:P3D
CALSCALE:GREGORIAN
BEGIN:VEVENT
DTSTART:20171024T170000Z
DTEND:20171024T180000Z
X-MICROSOFT-CDO-ALLDAYEVENT:FALSE
SUMMARY:Lunchtime Learning - The Kansas Oil & Gas Museum
DESCRIPTION:Join us for the Fall Installment of Lunchtime Learning\, a public adult education program. Bring your lunch and be entertained with history\, science\, and current events topics related to the oil & gas industry. Topics are delivered by industry & museum professionals.
X-ALT-DESC;FMTTYPE=text/html:Join us for the Fall Installment of Lunchtime Learning\, a public adult education program. Bring your lunch and be entertained with history\, science\, and current events topics related to the oil &amp\; gas industry. Topics are delivered by industry &amp\; museum professionals.
LOCATION:The Kansas Oil & Gas Museum 5944 10th St. Great Bend\, KS
UID:e.2303.3369
SEQUENCE:3
DTSTAMP:20260422T133103Z
URL:https://members.greatbend.org/events/details/lunchtime-learning-the-kansas-oil-gas-museum-3369
END:VEVENT

END:VCALENDAR
