BEGIN:VCALENDAR
VERSION:2.0
PRODID:-//ChamberMaster//Event Calendar 2.0//EN
METHOD:PUBLISH
X-PUBLISHED-TTL:P3D
REFRESH-INTERVAL:P3D
CALSCALE:GREGORIAN
BEGIN:VEVENT
DTSTART:20240608T000000Z
DTEND:20240608T013000Z
X-MICROSOFT-CDO-ALLDAYEVENT:FALSE
SUMMARY:Magician Zak Mirz "Flashes of Magic"
DESCRIPTION:Stage Magician Zak Mirz is bringing his NEW family-friendly show to Great Bend\, Kansas! ???? From FOOLING the legendary magicians Penn & Teller on their hit show "Fool Us" to serving as a magic advisor for David Blaine's special\, "The Magic Way\," Zak is one of the biggest up-and-comers in the magic industry. His talents earned him the prestigious title of "Best Magician" by Dallas Observer\, and\, Zak just premiered his first special\, "ticket for one" now streaming on YouTube. ?? Zak's new tour\, 'Flashes of Magic\,' promises an unforgettable evening you'll remember forever! ??
X-ALT-DESC;FMTTYPE=text/html:Stage Magician Zak Mirz is bringing his NEW family-friendly show to Great Bend\, Kansas! ???? From FOOLING the legendary magicians Penn &amp\; Teller on their hit show &quot\;Fool Us&quot\; to serving as a magic advisor for David Blaine&#39\;s special\, &quot\;The Magic Way\,&quot\; Zak is one of the biggest up-and-comers in the magic industry. His talents earned him the prestigious title of &quot\;Best Magician&quot\; by Dallas Observer\, and\, Zak just premiered his first special\, &quot\;ticket for one&quot\; now streaming on YouTube. ?? Zak&rsquo\;s new tour\, &#39\;Flashes of Magic\,&#39\; promises an unforgettable evening you&#39\;ll remember forever! ??
LOCATION:Great Bend Community Theater
UID:e.2303.13635
SEQUENCE:3
DTSTAMP:20260425T221205Z
URL:https://members.greatbend.org/events/details/magician-zak-mirz-flashes-of-magic-13635
END:VEVENT

END:VCALENDAR
