BEGIN:VCALENDAR
VERSION:2.0
PRODID:-//ChamberMaster//Event Calendar 2.0//EN
METHOD:PUBLISH
X-PUBLISHED-TTL:P3D
REFRESH-INTERVAL:P3D
CALSCALE:GREGORIAN
BEGIN:VEVENT
DTSTART:20180211T200000Z
DTEND:20180211T220000Z
X-MICROSOFT-CDO-ALLDAYEVENT:FALSE
SUMMARY:Maurices Shop in the Name of Love
DESCRIPTION:Shopping Party with Special Deals and Savings!
X-ALT-DESC;FMTTYPE=text/html:Shopping Party with Special Deals and Savings!
LOCATION:maurices 3511 10th Street Suite 4&5 Great Bend\, KS
UID:e.2303.3659
SEQUENCE:3
DTSTAMP:20260422T082831Z
URL:https://members.greatbend.org/events/details/maurices-shop-in-the-name-of-love-3659
END:VEVENT

END:VCALENDAR
