BEGIN:VCALENDAR
VERSION:2.0
PRODID:-//ChamberMaster//Event Calendar 2.0//EN
METHOD:PUBLISH
X-PUBLISHED-TTL:P3D
REFRESH-INTERVAL:P3D
CALSCALE:GREGORIAN
BEGIN:VEVENT
DTSTART:20170820T220000Z
DTEND:20170821T000000Z
X-MICROSOFT-CDO-ALLDAYEVENT:FALSE
SUMMARY:Meet the Panthers
DESCRIPTION:Come out to meet and support the GBHS coaches and players at \n\nJack Kilby Square from 5-7 PM
X-ALT-DESC;FMTTYPE=text/html:<span style="color: rgb(13\, 6\, 0)\; font-family: Georgia\; font-size: 13.3333px\;">Come out to meet and support the GBHS coaches and players at&nbsp\;</span><br style="color: rgb(13\, 6\, 0)\; font-family: Georgia\; font-size: 13.3333px\;" />\n<span style="color: rgb(13\, 6\, 0)\; font-family: Georgia\; font-size: 13.3333px\;">Jack Kilby Square from 5-7 PM</span>
LOCATION:Jack Kilby Square 1400 Main Great Bend\, KS 67530
UID:e.2303.3055
SEQUENCE:3
DTSTAMP:20260422T155231Z
URL:https://members.greatbend.org/events/details/meet-the-panthers-3055
END:VEVENT

END:VCALENDAR
