BEGIN:VCALENDAR
VERSION:2.0
PRODID:-//ChamberMaster//Event Calendar 2.0//EN
METHOD:PUBLISH
X-PUBLISHED-TTL:P3D
REFRESH-INTERVAL:P3D
CALSCALE:GREGORIAN
BEGIN:VEVENT
DTSTART:20200312T140000Z
DTEND:20200312T143000Z
X-MICROSOFT-CDO-ALLDAYEVENT:FALSE
SUMMARY:Mind Sculpt Games Ribbon Cutting
DESCRIPTION:Mind Sculpt Games - Ribbon Cutting
X-ALT-DESC;FMTTYPE=text/html:Mind Sculpt Games - Ribbon Cutting
LOCATION:4908 10th St Great Bend\, KS 67530
UID:e.2303.7733
SEQUENCE:3
DTSTAMP:20260419T210307Z
URL:https://members.greatbend.org/events/details/mind-sculpt-games-ribbon-cutting-7733
END:VEVENT

END:VCALENDAR
