BEGIN:VCALENDAR
VERSION:2.0
PRODID:-//ChamberMaster//Event Calendar 2.0//EN
METHOD:PUBLISH
X-PUBLISHED-TTL:P3D
REFRESH-INTERVAL:P3D
CALSCALE:GREGORIAN
BEGIN:VEVENT
DTSTART:20180117T233000Z
DTEND:20180118T010000Z
X-MICROSOFT-CDO-ALLDAYEVENT:FALSE
SUMMARY:MOPS Meeting
DESCRIPTION:MOPS Great Bend is an evening MOPS group that meets on the 1st and 3rd Wednesdays of each month from 5:30 p.m. to 7:00 p.m. at First United Methodist Church\, 2123 Forest Avenue in Great Bend. Each meeting starts with dinner for the entire family\, followed by a MOPS meeting with free childcare provided. Some meetings include crafts\, some include devotionals\, but all meetings include camaraderie and togetherness! Learn more about MOPS on our Facebook page: www.facebook.com/mopsgbfumc.
X-ALT-DESC;FMTTYPE=text/html:MOPS Great Bend is an evening MOPS group that meets on the 1st and 3rd Wednesdays of each month from 5:30 p.m. to 7:00 p.m. at First United Methodist Church\, 2123 Forest Avenue in Great Bend. Each meeting starts with dinner for the entire family\, followed by a MOPS meeting with free childcare provided. Some meetings include crafts\, some include devotionals\, but all meetings include camaraderie and togetherness! Learn more about MOPS on our Facebook page: www.facebook.com/mopsgbfumc.
LOCATION:First United Methodist Church
UID:e.2303.3611
SEQUENCE:3
DTSTAMP:20260422T092147Z
URL:https://members.greatbend.org/events/details/mops-meeting-3611
END:VEVENT

END:VCALENDAR
