BEGIN:VCALENDAR
VERSION:2.0
PRODID:-//ChamberMaster//Event Calendar 2.0//EN
METHOD:PUBLISH
X-PUBLISHED-TTL:P3D
REFRESH-INTERVAL:P3D
CALSCALE:GREGORIAN
BEGIN:VEVENT
DTSTART:20171018T170000Z
DTEND:20171018T180000Z
X-MICROSOFT-CDO-ALLDAYEVENT:FALSE
SUMMARY:Nex-Tech Lunch & Learn: New Trends in Technology
DESCRIPTION:Join Nex-TEch for a lunch and learn about new trends in Technology from HPE and how to step out of the box with Digital Marketing! Click here (http://bit.ly/2x1YYMJ) to RSVP!
X-ALT-DESC;FMTTYPE=text/html:Join Nex-TEch for a lunch and learn about new trends in Technology from HPE and how to step out of the box with Digital Marketing! Click here (http://bit.ly/2x1YYMJ) to RSVP!
LOCATION:The Page\, Sunflower Room 2920 10th Street Great Bend\, KS 67530
UID:e.2303.3386
SEQUENCE:3
DTSTAMP:20260422T132748Z
URL:https://members.greatbend.org/events/details/nex-tech-lunch-learn-new-trends-in-technology-3386
END:VEVENT

END:VCALENDAR
