BEGIN:VCALENDAR
VERSION:2.0
PRODID:-//ChamberMaster//Event Calendar 2.0//EN
METHOD:PUBLISH
X-PUBLISHED-TTL:P3D
REFRESH-INTERVAL:P3D
CALSCALE:GREGORIAN
BEGIN:VEVENT
DTSTART:20201026T210000Z
DTEND:20201027T020000Z
X-MICROSOFT-CDO-ALLDAYEVENT:FALSE
SUMMARY:Noah's Ark Preschool Pizza Hut Fundraiser Night
DESCRIPTION:Pizza Hut Fundraiser Night for First United Methodist Church Noah's Ark Preschool. Dine-in\, carryout or Delivery on Monday\, Oct 26 from 4pm-9PM Pizza Hut will donate 15% of sales. Proceeds benefit scholarships for Noah's Ark Preschool families.
X-ALT-DESC;FMTTYPE=text/html:Pizza Hut Fundraiser Night for First United Methodist Church Noah&#39\;s Ark Preschool. Dine-in\, carryout or Delivery on Monday\, Oct 26 from 4pm-9PM Pizza Hut will donate 15% of sales. Proceeds benefit scholarships for Noah&#39\;s Ark Preschool families.
LOCATION:Both Great Bend Pizza Hut locations: 4101 10th & 2006 Main St.
UID:e.2303.8076
SEQUENCE:3
DTSTAMP:20260425T105048Z
URL:https://members.greatbend.org/events/details/noah-s-ark-preschool-pizza-hut-fundraiser-night-8076
END:VEVENT

END:VCALENDAR
