BEGIN:VCALENDAR
VERSION:2.0
PRODID:-//ChamberMaster//Event Calendar 2.0//EN
METHOD:PUBLISH
X-PUBLISHED-TTL:P3D
REFRESH-INTERVAL:P3D
CALSCALE:GREGORIAN
BEGIN:VEVENT
DTSTART:20210217T010000Z
DTEND:20210217T020000Z
X-MICROSOFT-CDO-ALLDAYEVENT:FALSE
SUMMARY:Open Book Club
DESCRIPTION:Join us at the Great Bend Public Library to discuss this months book "Pride Prejudice and Other Flavors". Copies of the book are available at the front desk for check out.
X-ALT-DESC;FMTTYPE=text/html:Join us at the Great Bend Public Library to discuss this months book &quot\;Pride Prejudice and Other Flavors&quot\;. Copies of the book are available at the front desk for check out.
LOCATION:Great Bend Public Library
UID:e.2303.8188
SEQUENCE:3
DTSTAMP:20260425T232737Z
URL:https://members.greatbend.org/events/details/open-book-club-02-16-2021-8188
END:VEVENT

END:VCALENDAR
