BEGIN:VCALENDAR
VERSION:2.0
PRODID:-//ChamberMaster//Event Calendar 2.0//EN
METHOD:PUBLISH
X-PUBLISHED-TTL:P3D
REFRESH-INTERVAL:P3D
CALSCALE:GREGORIAN
BEGIN:VEVENT
DTSTART:20201021T000000Z
DTEND:20201021T010000Z
X-MICROSOFT-CDO-ALLDAYEVENT:FALSE
SUMMARY:Open Book Club
DESCRIPTION:Our next Open Book Club Book is "The Graveyard Book" by Neil Gaiman. We will discuss it on October 20th @7 PM. Copies of the book are available at the the front desk as well as digitally!
X-ALT-DESC;FMTTYPE=text/html:Our next Open Book Club Book is &quot\;The Graveyard Book&quot\; by Neil Gaiman. We will discuss it on October 20th @7 PM. Copies of the book are available at the the front desk as well as digitally!
LOCATION:Great Bend Public Library
UID:e.2303.8082
SEQUENCE:3
DTSTAMP:20260425T123406Z
URL:https://members.greatbend.org/events/details/open-book-club-10-20-2020-8082
END:VEVENT

END:VCALENDAR
