BEGIN:VCALENDAR
VERSION:2.0
PRODID:-//ChamberMaster//Event Calendar 2.0//EN
METHOD:PUBLISH
X-PUBLISHED-TTL:P3D
REFRESH-INTERVAL:P3D
CALSCALE:GREGORIAN
BEGIN:VEVENT
DTSTART:20180828T230000Z
DTEND:20180829T020000Z
X-MICROSOFT-CDO-ALLDAYEVENT:FALSE
SUMMARY:Open Studio-Pick your Project
DESCRIPTION:Open Studio from 6-9 pm come in and pick whatever project we do anytime between 6 and 8 so that you can get it finished by 9 or soon after. The fee will depend on the project you choose. Most are between $30-$35. Come yourself or bring a friend or two or ten! You are welcome to bring a beverage of your choice and snacks if you wish. Alcohol is allowed.
X-ALT-DESC;FMTTYPE=text/html:Open Studio from 6-9 pm come in and pick whatever project we do anytime between 6 and 8 so that you can get it finished by 9 or soon after. The fee will depend on the project you choose. Most are between $30-$35. Come yourself or bring a friend or two or ten! You are welcome to bring a beverage of your choice and snacks if you wish. Alcohol is allowed.
LOCATION:Dilly & Doc 1119 Main St. Great Bend
UID:e.2303.6091
SEQUENCE:3
DTSTAMP:20260422T082108Z
URL:https://members.greatbend.org/events/details/open-studio-pick-your-project-08-28-2018-6091
END:VEVENT

END:VCALENDAR
