BEGIN:VCALENDAR
VERSION:2.0
PRODID:-//ChamberMaster//Event Calendar 2.0//EN
METHOD:PUBLISH
X-PUBLISHED-TTL:P3D
REFRESH-INTERVAL:P3D
CALSCALE:GREGORIAN
BEGIN:VEVENT
DTSTART:20180804T150000Z
DTEND:20180804T210000Z
X-MICROSOFT-CDO-ALLDAYEVENT:FALSE
SUMMARY:Open Studio-Pick your Project
DESCRIPTION:We will be Open from 10 am to 4 pm for you to come in and look around or come in to make a project! You can pick from any of our instock wood shapes\, jars\, glassware\, paper mache items\, or many other projects. Cost will be determined by project you choose. Bring your friends or family.
X-ALT-DESC;FMTTYPE=text/html:We will be Open from 10 am to 4 pm for you to come in and look around or come in to make a project! You can pick from any of our instock wood shapes\, jars\, glassware\, paper mache items\, or many other projects. Cost will be determined by project you choose. Bring your friends or family.
LOCATION:Dilly & Doc 1119 Main St. Great Bend
UID:e.2303.6082
SEQUENCE:3
DTSTAMP:20260420T082126Z
URL:https://members.greatbend.org/events/details/open-studio-pick-your-project-6082
END:VEVENT

END:VCALENDAR
