BEGIN:VCALENDAR
VERSION:2.0
PRODID:-//ChamberMaster//Event Calendar 2.0//EN
METHOD:PUBLISH
X-PUBLISHED-TTL:P3D
REFRESH-INTERVAL:P3D
CALSCALE:GREGORIAN
BEGIN:VEVENT
DTSTART:20240407T160000Z
DTEND:20240407T190000Z
X-MICROSOFT-CDO-ALLDAYEVENT:FALSE
SUMMARY:Optimist Sloppy Joe Dinner and Dessert
DESCRIPTION:Join the Great Bend Optimist Club for a delightful Sloppy Joe Dinner and Dessert on Sunday\, April 7th\, from 11:00 AM to 2:00 PM at Walnut Bowl\, located at 3101 Washington St. For only $8 per person\, you can enjoy a delicious meal\, whether you choose to dine in or take it to go. The event will feature a silent auction with exciting items up for grabs. All proceeds from this event will go towards supporting the youth projects of the Great Bend Optimist Club.
X-ALT-DESC;FMTTYPE=text/html:Join the Great Bend Optimist Club for a delightful Sloppy Joe Dinner and Dessert on Sunday\, April 7th\, from 11:00 AM to 2:00 PM at Walnut Bowl\, located at 3101 Washington St. For only $8 per person\, you can enjoy a delicious meal\, whether you choose to dine in or take it to go. The event will feature a silent auction with exciting items up for grabs. All proceeds from this event will go towards supporting the youth projects of the Great Bend Optimist Club.
LOCATION:Walnut Bowl 3101 Washington St. Great Bend\, KS 67530
UID:e.2303.13344
SEQUENCE:3
DTSTAMP:20260425T235609Z
URL:https://members.greatbend.org/events/details/optimist-sloppy-joe-dinner-and-dessert-13344
END:VEVENT

END:VCALENDAR
