BEGIN:VCALENDAR
VERSION:2.0
PRODID:-//ChamberMaster//Event Calendar 2.0//EN
METHOD:PUBLISH
X-PUBLISHED-TTL:P3D
REFRESH-INTERVAL:P3D
CALSCALE:GREGORIAN
BEGIN:VEVENT
DTSTART:20200216T190000Z
DTEND:20200216T230000Z
X-MICROSOFT-CDO-ALLDAYEVENT:FALSE
SUMMARY:Pampered Chef Open House
DESCRIPTION:Debbie Kuhlman with Pampered Chef is hosting an Open House on Sunday\, February 16th at The Kansas Trophy Experience starting at 1:00 pm with a Power Tool Demonstration starting at 3:00 pm. Door Prizes and Treats to share! The retiring products will be features as well as the new product for the Spring/Summer Season! Come and bring a friend or two!
X-ALT-DESC;FMTTYPE=text/html:Debbie Kuhlman with Pampered Chef is hosting an Open House on Sunday\, February 16th at The Kansas Trophy Experience starting at 1:00 pm with a Power Tool Demonstration starting at 3:00 pm. Door Prizes and Treats to share! The retiring products will be features as well as the new product for the Spring/Summer Season! Come and bring a friend or two!
LOCATION:The Kansas Trophy Experience 54 SE 10 Rd\, Great Bend\, KS
UID:e.2303.7689
SEQUENCE:3
DTSTAMP:20260419T224642Z
URL:https://members.greatbend.org/events/details/pampered-chef-open-house-7689
END:VEVENT

END:VCALENDAR
