BEGIN:VCALENDAR
VERSION:2.0
PRODID:-//ChamberMaster//Event Calendar 2.0//EN
METHOD:PUBLISH
X-PUBLISHED-TTL:P3D
REFRESH-INTERVAL:P3D
CALSCALE:GREGORIAN
BEGIN:VEVENT
DTSTART:20240416T220000Z
DTEND:20240417T010000Z
X-MICROSOFT-CDO-ALLDAYEVENT:FALSE
SUMMARY:Pilot Club FUNd Raiser @ Perkins
DESCRIPTION:JOIN US FOR A PILOT FUNds Raiser @ PERKINS TUESDAY APRIL 16th / 5-8pm. All Welcome!
X-ALT-DESC;FMTTYPE=text/html:JOIN US FOR A PILOT FUNds Raiser @ PERKINS TUESDAY APRIL 16th / 5-8pm. All Welcome!
LOCATION:Perkins Restaurant 2920 10th St Great Bend\, KS 67530
UID:e.2303.13578
SEQUENCE:3
DTSTAMP:20260425T234625Z
URL:https://members.greatbend.org/events/details/pilot-club-fund-raiser-perkins-13578
END:VEVENT

END:VCALENDAR
