BEGIN:VCALENDAR
VERSION:2.0
PRODID:-//ChamberMaster//Event Calendar 2.0//EN
METHOD:PUBLISH
X-PUBLISHED-TTL:P3D
REFRESH-INTERVAL:P3D
CALSCALE:GREGORIAN
BEGIN:VEVENT
DTSTART:20171017T220000Z
DTEND:20171018T000000Z
X-MICROSOFT-CDO-ALLDAYEVENT:FALSE
SUMMARY:Pilot Club Networking & Membership Event
DESCRIPTION:networking and after hours come and go social on Tuesday\, October 17\, 2017 from 5-7:00 pm at the Classic Inn in Great Bend. All are invited to stop by and learn more about Pilot Club whose mission is to further humanitarian efforts through charitable\, educational\, and research programs in our community. For more information\, contact Nancy at 620-793-2855.
X-ALT-DESC;FMTTYPE=text/html:networking and after hours come and go social on Tuesday\, October 17\, 2017 from 5-7:00 pm at the Classic Inn in Great Bend. All are invited to stop by and learn more about Pilot Club whose mission is to further humanitarian efforts through charitable\, educational\, and research programs in our community. For more information\, contact Nancy at 620-793-2855.
LOCATION:Classic Inn 30 S Patton Rd. Great Bend\, KS
UID:e.2303.3425
SEQUENCE:3
DTSTAMP:20260422T132033Z
URL:https://members.greatbend.org/events/details/pilot-club-networking-membership-event-3425
END:VEVENT

END:VCALENDAR
