BEGIN:VCALENDAR
VERSION:2.0
PRODID:-//ChamberMaster//Event Calendar 2.0//EN
METHOD:PUBLISH
X-PUBLISHED-TTL:P3D
REFRESH-INTERVAL:P3D
CALSCALE:GREGORIAN
BEGIN:VEVENT
DTSTART:20170819T230000Z
DTEND:20170820T030000Z
X-MICROSOFT-CDO-ALLDAYEVENT:FALSE
SUMMARY:Racing for a Cause
DESCRIPTION:Join UWCK for a night of great food\, drinks\, and entertainment to Kickoff our 2018 Campaign and get us on track to reach our goal of $275\,000 to support our 23 Community Partners and numerous Community Impact Programs. Entertainment this year will be Curtis the Mentalist!
X-ALT-DESC;FMTTYPE=text/html:<span style="color: rgb(75\, 79\, 86)\; font-family: Helvetica\, Arial\, sans-serif\; font-size: 14px\;">Join UWCK for a night of great food\, drinks\, and entertainment to Kickoff our 2018 Campaign and get us on track to reach our goal of $275\,000 to support our 23 Community Partners and numerous Community Impact Programs. Entertainment this year will be Curtis the Mentalist!</span>
LOCATION:Knights of Columbus 723 S Main St Great Bend
UID:e.2303.1686
SEQUENCE:3
DTSTAMP:20260422T155318Z
URL:https://members.greatbend.org/events/details/racing-for-a-cause-1686
END:VEVENT

END:VCALENDAR
