BEGIN:VCALENDAR
VERSION:2.0
PRODID:-//ChamberMaster//Event Calendar 2.0//EN
METHOD:PUBLISH
X-PUBLISHED-TTL:P3D
REFRESH-INTERVAL:P3D
CALSCALE:GREGORIAN
BEGIN:VEVENT
DTSTART;VALUE=DATE:20250322
DTEND;VALUE=DATE:20250323
TRANSP:TRANSPARENT
X-MICROSOFT-CDO-ALLDAYEVENT:TRUE
SUMMARY:ReDirect Interiors - Shop & Win Promo!
DESCRIPTION:Win a $25 Gift Certificate!   \n\nReDirect Interiors is making shopping even more exciting! This month\, we're giving away a $25 Gift Certificate ? and YOU could be the lucky winner!    \n\nHere?s how to enter:\n\n  Spend $20 or more per visit\n\n   Sign up at checkout\n\n  Wait for your name to be called!\n\nWith unique finds for every room in your home   and great gift ideas  \, there's always a reason to stop by!\n\nHappy shopping & good luck!
X-ALT-DESC;FMTTYPE=text/html:<p data-end="52" data-start="0"><span style="font-size:22px\;">&#10024\;&#127881\; <strong data-end="46" data-start="4">Win a $25 Gift Certificate!</strong> &#127881\;&#10024\;</span></p>\n\n<p data-end="213" data-start="54"><span style="font-size:16px\;">ReDirect Interiors is making shopping even more exciting! This month\, we&#39\;re giving away a <strong data-end="168" data-start="144">$25 Gift Certificate</strong> ? and YOU could be the lucky winner! &#128717\;&#65039\;&#128150\;</span></p>\n\n<p data-end="337" data-start="215"><span style="font-size:16px\;"><u>Here?s how to enter:</u><br data-end="238" data-start="235" />\n&#128722\; Spend <strong data-end="262" data-start="247">$20 or more</strong> per visit<br data-end="275" data-start="272" />\n&#9997\;&#65039\; Sign up at checkout<br data-end="300" data-start="297" />\n&#128222\; Wait for your name to be called!</span></p>\n\n<p data-end="450" data-start="339"><span style="font-size:16px\;">With unique finds for every room in your home &#127969\; and great gift ideas &#127873\;\, there&#39\;s always a reason to stop by!</span></p>\n\n<p data-end="484" data-is-last-node="" data-is-only-node="" data-start="452"><span style="font-size:16px\;">Happy shopping &amp\; good luck! &#127808\;&#129321\;</span></p>\n
LOCATION:ReDirect Interiors 1008 Roosevelt Great Bend\, KS 67530
UID:e.2303.16478
SEQUENCE:3
DTSTAMP:20260422T042829Z
URL:https://members.greatbend.org/events/details/redirect-interiors-shop-win-promo-03-22-2025-16478
END:VEVENT

END:VCALENDAR
