BEGIN:VCALENDAR
VERSION:2.0
PRODID:-//ChamberMaster//Event Calendar 2.0//EN
METHOD:PUBLISH
X-PUBLISHED-TTL:P3D
REFRESH-INTERVAL:P3D
CALSCALE:GREGORIAN
BEGIN:VEVENT
DTSTART:20240412T150000Z
DTEND:20240412T153000Z
X-MICROSOFT-CDO-ALLDAYEVENT:FALSE
SUMMARY:Ribbon Cutting - Bomgaars
DESCRIPTION:Join us for a Ribbon Cutting for Bomgaars!!!
X-ALT-DESC;FMTTYPE=text/html:Join us for a Ribbon Cutting for Bomgaars!!!&nbsp\;
LOCATION:5320 10th St Great Bend\, KS 67530
UID:e.2303.13440
SEQUENCE:3
DTSTAMP:20260425T202722Z
URL:https://members.greatbend.org/events/details/ribbon-cutting-bomgaars-13440
END:VEVENT

END:VCALENDAR
