BEGIN:VCALENDAR
VERSION:2.0
PRODID:-//ChamberMaster//Event Calendar 2.0//EN
METHOD:PUBLISH
X-PUBLISHED-TTL:P3D
REFRESH-INTERVAL:P3D
CALSCALE:GREGORIAN
BEGIN:VEVENT
DTSTART:20170831T150000Z
DTEND:20170831T153000Z
X-MICROSOFT-CDO-ALLDAYEVENT:FALSE
SUMMARY:Ribbon Cutting Ceremony: Bling
DESCRIPTION:Please join us for a special Ribbon Cutting Ceremony to celebrate the opening of Bling.\n\n\n\nRibbon Cutting will take place at 10:00am at 2019 Lakin\, Great Bend.
X-ALT-DESC;FMTTYPE=text/html:<span style="color: rgb(13\, 6\, 0)\; font-family: Georgia\; font-size: 13.3333px\;">Please join us for a special Ribbon Cutting Ceremony to celebrate the opening of Bling.</span><br style="color: rgb(13\, 6\, 0)\; font-family: Georgia\; font-size: 13.3333px\;" />\n<br style="color: rgb(13\, 6\, 0)\; font-family: Georgia\; font-size: 13.3333px\;" />\n<span style="color: rgb(13\, 6\, 0)\; font-family: Georgia\; font-size: 13.3333px\;">Ribbon Cutting will take place at 10:00am at 2019 Lakin\, Great Bend.</span>
LOCATION:
UID:e.2303.3017
SEQUENCE:3
DTSTAMP:20260422T155415Z
URL:https://members.greatbend.org/events/details/ribbon-cutting-ceremony-bling-3017
END:VEVENT

END:VCALENDAR
