BEGIN:VCALENDAR
VERSION:2.0
PRODID:-//ChamberMaster//Event Calendar 2.0//EN
METHOD:PUBLISH
X-PUBLISHED-TTL:P3D
REFRESH-INTERVAL:P3D
CALSCALE:GREGORIAN
BEGIN:VEVENT
DTSTART:20170706T150000Z
DTEND:20170706T153000Z
X-MICROSOFT-CDO-ALLDAYEVENT:FALSE
SUMMARY:Ribbon Cutting Ceremony: Stueder Contractors\, Inc.
DESCRIPTION:Please join us for a special Ribbon Cutting Ceremony to celebrate the recent remodel of Stueder Contractors\, Inc.
X-ALT-DESC;FMTTYPE=text/html:<span style="color: rgb(13\, 6\, 0)\; font-family: Georgia\; font-size: 13.3333px\;">Please join us for a special Ribbon Cutting Ceremony to celebrate the recent remodel of Stueder Contractors\, Inc.</span><br style="color: rgb(13\, 6\, 0)\; font-family: Georgia\; font-size: 13.3333px\;" />\n<br style="color: rgb(13\, 6\, 0)\; font-family: Georgia\; font-size: 13.3333px\;" />\n&nbsp\;
LOCATION:Ribbon Cutting will take place at 10:00am at 3410 10th Street\, Great Bend.
UID:e.2303.2846
SEQUENCE:3
DTSTAMP:20260422T173216Z
URL:https://members.greatbend.org/events/details/ribbon-cutting-ceremony-stueder-contractors-inc-2846
END:VEVENT

END:VCALENDAR
