BEGIN:VCALENDAR
VERSION:2.0
PRODID:-//ChamberMaster//Event Calendar 2.0//EN
METHOD:PUBLISH
X-PUBLISHED-TTL:P3D
REFRESH-INTERVAL:P3D
CALSCALE:GREGORIAN
BEGIN:VEVENT
DTSTART:20240517T153000Z
DTEND:20240517T160000Z
X-MICROSOFT-CDO-ALLDAYEVENT:FALSE
SUMMARY:Ribbon Cutting: City of Great Bend Splash Pad at Vets Park
DESCRIPTION:Join us for a ribbon cutting celebrating the brand new City of Great Bend Splash Pad at Vets Park! 10:30am
X-ALT-DESC;FMTTYPE=text/html:Join us for a ribbon cutting celebrating the brand new City of Great Bend Splash Pad at Vets Park! 10:30am
LOCATION:Veterans Memorial Park McKinley Street Great Bend\, KS
UID:e.2303.13614
SEQUENCE:3
DTSTAMP:20260425T171326Z
URL:https://members.greatbend.org/events/details/ribbon-cutting-city-of-great-bend-splash-pad-at-vets-park-13614
END:VEVENT

END:VCALENDAR
