BEGIN:VCALENDAR
VERSION:2.0
PRODID:-//ChamberMaster//Event Calendar 2.0//EN
METHOD:PUBLISH
X-PUBLISHED-TTL:P3D
REFRESH-INTERVAL:P3D
CALSCALE:GREGORIAN
BEGIN:VEVENT
DTSTART:20170815T170000Z
DTEND:20170815T173000Z
X-MICROSOFT-CDO-ALLDAYEVENT:FALSE
SUMMARY:Ribbon Cutting: CUNA Mutual
DESCRIPTION:Please join us as we celebrate the grand opening of CUNA Mutual's new building and extensive facility improvements.
X-ALT-DESC;FMTTYPE=text/html:Please join us as we celebrate the grand opening of CUNA Mutual&#39\;s&nbsp\;new building and extensive facility improvements.
LOCATION:CUNA Mutual 1809 24th Street Great Bend\, KS 67530
UID:e.2303.3048
SEQUENCE:3
DTSTAMP:20260422T155446Z
URL:https://members.greatbend.org/events/details/ribbon-cutting-cuna-mutual-3048
END:VEVENT

END:VCALENDAR
