BEGIN:VCALENDAR
VERSION:2.0
PRODID:-//ChamberMaster//Event Calendar 2.0//EN
METHOD:PUBLISH
X-PUBLISHED-TTL:P3D
REFRESH-INTERVAL:P3D
CALSCALE:GREGORIAN
BEGIN:VEVENT
DTSTART:20180104T160000Z
DTEND:20180104T163000Z
X-MICROSOFT-CDO-ALLDAYEVENT:FALSE
SUMMARY:Ribbon Cutting: Dilly & Doc
DESCRIPTION:Please join us for a ribbon cutting to celebrate a new member and business to the community\, Dilly & Doc\, located at 1119 Main St.
X-ALT-DESC;FMTTYPE=text/html:Please join us for a ribbon cutting to celebrate a new member and business to the community\, Dilly &amp\; Doc\, located at 1119 Main St.
LOCATION:1119 Main St. Great Bend\, KS
UID:e.2303.3607
SEQUENCE:3
DTSTAMP:20260420T093504Z
URL:https://members.greatbend.org/events/details/ribbon-cutting-dilly-doc-3607
END:VEVENT

END:VCALENDAR
