BEGIN:VCALENDAR
VERSION:2.0
PRODID:-//ChamberMaster//Event Calendar 2.0//EN
METHOD:PUBLISH
X-PUBLISHED-TTL:P3D
REFRESH-INTERVAL:P3D
CALSCALE:GREGORIAN
BEGIN:VEVENT
DTSTART:20180201T160000Z
DTEND:20180201T163000Z
X-MICROSOFT-CDO-ALLDAYEVENT:FALSE
SUMMARY:Ribbon Cutting: Gleason Landscaping
DESCRIPTION:Please join us for a Ribbon Cutting to welcome new member\, Gleason Landscaping. The event will take place at the Great Bend Chamber of Commerce at 10a.m.
X-ALT-DESC;FMTTYPE=text/html:Please join us for a Ribbon Cutting to welcome new member\, Gleason Landscaping. The event will take place at the Great Bend Chamber of Commerce at 10a.m.
LOCATION:1125 Williams St. Great Bend\, KS
UID:e.2303.3610
SEQUENCE:3
DTSTAMP:20260422T082447Z
URL:https://members.greatbend.org/events/details/ribbon-cutting-gleason-landscaping-3610
END:VEVENT

END:VCALENDAR
